BEGIN:VCALENDAR
VERSION:2.0
PRODID:-//Kappa Data - ECPv6.15.20//NONSGML v1.0//EN
CALSCALE:GREGORIAN
METHOD:PUBLISH
X-ORIGINAL-URL:https://kappadata.fr/en/
X-WR-CALDESC:Events for Kappa Data
REFRESH-INTERVAL;VALUE=DURATION:PT1H
X-Robots-Tag:noindex
X-PUBLISHED-TTL:PT1H
BEGIN:VTIMEZONE
TZID:Europe/Paris
BEGIN:DAYLIGHT
TZOFFSETFROM:+0100
TZOFFSETTO:+0200
TZNAME:CEST
DTSTART:20250330T010000
END:DAYLIGHT
BEGIN:STANDARD
TZOFFSETFROM:+0200
TZOFFSETTO:+0100
TZNAME:CET
DTSTART:20251026T010000
END:STANDARD
BEGIN:DAYLIGHT
TZOFFSETFROM:+0100
TZOFFSETTO:+0200
TZNAME:CEST
DTSTART:20260329T010000
END:DAYLIGHT
BEGIN:STANDARD
TZOFFSETFROM:+0200
TZOFFSETTO:+0100
TZNAME:CET
DTSTART:20261025T010000
END:STANDARD
BEGIN:DAYLIGHT
TZOFFSETFROM:+0100
TZOFFSETTO:+0200
TZNAME:CEST
DTSTART:20270328T010000
END:DAYLIGHT
BEGIN:STANDARD
TZOFFSETFROM:+0200
TZOFFSETTO:+0100
TZNAME:CET
DTSTART:20271031T010000
END:STANDARD
END:VTIMEZONE
BEGIN:VEVENT
DTSTART;TZID=Europe/Paris:20260428T100000
DTEND;TZID=Europe/Paris:20260428T103000
DTSTAMP:20260422T112932
CREATED:20260324T081608Z
LAST-MODIFIED:20260324T081616Z
UID:10000785-1777370400-1777372200@kappadata.fr
SUMMARY:WithSecure Webinar – Discover EDR\, XDR and XM solutions
DESCRIPTION:[vc_row css_animation=”” row_type=”row” use_row_as_full_screen_section=”no” type=”full_width” angled_section=”no” text_align=”left” background_image_as_pattern=”without_pattern”][vc_column][vc_column_text][/vc_column_text][/vc_column][/vc_row][vc_row css_animation=”” row_type=”row” use_row_as_full_screen_section=”no” type=”full_width” angled_section=”no” text_align=”left” background_image_as_pattern=”without_pattern” z_index=”” anchor=”#inschrijven”][vc_column width=”2/3″][vc_column_text css=””]Register for the “WithSecure Webinar – Discover EDR\, XDR and XM solutions” on 28 April 2026. \nTo go beyond traditional EPP protection\, discover how EDR and XDR solutions can detect and respond to threats and suspicious activity on your network\, whilst protecting Office 365 and your cloud assets.We will also discuss Exposure Management (XM)\, which helps identify and reduce your exposure to security risks. \nFinally\, discover how WithSecure teams can support your SOC teams\, particularly through the Elevate and Co-Monitoring services. \nOn the agenda:\n \n\nThreat detection and response with EDR / XDR\nIdentifying and mitigating security risks with XM\nWithSecure services to support your SOC\n\n \nPractical information:\n \n\n📅When: 28/04/2026\n🕐Time: 10:00–10:30\n🖥️Format: Online webinar\n🎙️Speaker: Jean-Mathieu Brion (Pre-sales Engineer\, Kappa Data)\n\nDon’t miss this unique opportunity – register today!\n[/vc_column_text][/vc_column][vc_column width=”1/3″][vc_single_image image=”21084″ img_size=”medium” css=”” qode_css_animation=””][vc_empty_space height=”40px”]SIGN UP[vc_empty_space height=”40px”][/vc_column][/vc_row][vc_row css_animation=”” row_type=”row” use_row_as_full_screen_section=”no” type=”full_width” angled_section=”no” text_align=”left” background_image_as_pattern=”without_pattern”][vc_column][vc_separator type=”normal”][/vc_column][/vc_row]
URL:https://kappadata.fr/en/event/withsecure-webinar-discover-edr-xdr-and-xm-solutions/
LOCATION:Kappa Data FR – distanciel
CATEGORIES:Webinar
ATTACH;FMTTYPE=image/png:https://kappadata.fr/wp-content/uploads/2026/03/Webinar-banners.png
ORGANIZER;CN="Kappa Data France":MAILTO:info@kappadata.fr
END:VEVENT
END:VCALENDAR